BEGIN:VCALENDAR
VERSION:2.0
PRODID:-//Oystermouth Primary School - ECPv6.15.20//NONSGML v1.0//EN
CALSCALE:GREGORIAN
METHOD:PUBLISH
X-WR-CALNAME:Oystermouth Primary School
X-ORIGINAL-URL:https://oystermouthprimaryschool.com
X-WR-CALDESC:Events for Oystermouth Primary School
REFRESH-INTERVAL;VALUE=DURATION:PT1H
X-Robots-Tag:noindex
X-PUBLISHED-TTL:PT1H
BEGIN:VTIMEZONE
TZID:UTC
BEGIN:STANDARD
TZOFFSETFROM:+0000
TZOFFSETTO:+0000
TZNAME:UTC
DTSTART:20250101T000000
END:STANDARD
END:VTIMEZONE
BEGIN:VEVENT
DTSTART;TZID=UTC:20260424T082500
DTEND;TZID=UTC:20260424T084000
DTSTAMP:20260424T022547
CREATED:20251218T161918Z
LAST-MODIFIED:20251218T161918Z
UID:4625-1777019100-1777020000@oystermouthprimaryschool.com
SUMMARY:Walk to School
DESCRIPTION:Encouraging active journeys to school\, the class with the highest % turn out wins an extra play! Mrs Morgan will communicate time and place closer to the time.
URL:https://oystermouthprimaryschool.com/event/walk-to-school-10/
LOCATION:Oystermouth Primary School\, Newton Road\, Mumbles\, Swansea\, SA3 4BE\, United Kingdom
CATEGORIES:Walk to School
END:VEVENT
END:VCALENDAR