BEGIN:VCALENDAR
VERSION:2.0
PRODID:-//Oystermouth Primary School - ECPv6.15.20//NONSGML v1.0//EN
CALSCALE:GREGORIAN
METHOD:PUBLISH
X-ORIGINAL-URL:https://oystermouthprimaryschool.com
X-WR-CALDESC:Events for Oystermouth Primary School
REFRESH-INTERVAL;VALUE=DURATION:PT1H
X-Robots-Tag:noindex
X-PUBLISHED-TTL:PT1H
BEGIN:VTIMEZONE
TZID:UTC
BEGIN:STANDARD
TZOFFSETFROM:+0000
TZOFFSETTO:+0000
TZNAME:UTC
DTSTART:20230101T000000
END:STANDARD
END:VTIMEZONE
BEGIN:VEVENT
DTSTART;TZID=UTC:20241210T101500
DTEND;TZID=UTC:20241210T110000
DTSTAMP:20260419T202621
CREATED:20241009T113827Z
LAST-MODIFIED:20241009T113827Z
UID:2984-1733825700-1733828400@oystermouthprimaryschool.com
SUMMARY:Mumbles Beaches Christmas Concerts
DESCRIPTION:Tickets will be sent home closer to the time\, if you cannot make your allocated performance\, please contact your class teacher to exchange for another day.
URL:https://oystermouthprimaryschool.com/event/mumbles-beaches-christmas-concerts/
LOCATION:Oystermouth Primary School\, Newton Road\, Mumbles\, Swansea\, SA3 4BE\, United Kingdom
CATEGORIES:Performances
END:VEVENT
END:VCALENDAR