BEGIN:VCALENDAR
VERSION:2.0
PRODID:-//Oystermouth Primary School - ECPv6.15.20//NONSGML v1.0//EN
CALSCALE:GREGORIAN
METHOD:PUBLISH
X-WR-CALNAME:Oystermouth Primary School
X-ORIGINAL-URL:https://oystermouthprimaryschool.com
X-WR-CALDESC:Events for Oystermouth Primary School
REFRESH-INTERVAL;VALUE=DURATION:PT1H
X-Robots-Tag:noindex
X-PUBLISHED-TTL:PT1H
BEGIN:VTIMEZONE
TZID:UTC
BEGIN:STANDARD
TZOFFSETFROM:+0000
TZOFFSETTO:+0000
TZNAME:UTC
DTSTART:20230101T000000
END:STANDARD
END:VTIMEZONE
BEGIN:VEVENT
DTSTART;TZID=UTC:20240605T090000
DTEND;TZID=UTC:20240605T103000
DTSTAMP:20260422T013301
CREATED:20240418T111319Z
LAST-MODIFIED:20240418T111319Z
UID:1300-1717578000-1717583400@oystermouthprimaryschool.com
SUMMARY:Class Photos
DESCRIPTION:Roz & Kirsty will be in during the morning to take class photos 2024.
URL:https://oystermouthprimaryschool.com/event/class-photos/
LOCATION:Oystermouth Primary School\, Newton Road\, Mumbles\, Swansea\, SA3 4BE\, United Kingdom
CATEGORIES:School
END:VEVENT
BEGIN:VEVENT
DTSTART;VALUE=DATE:20240624
DTEND;VALUE=DATE:20240629
DTSTAMP:20260422T013301
CREATED:20240411T160305Z
LAST-MODIFIED:20240411T160305Z
UID:1163-1719187200-1719619199@oystermouthprimaryschool.com
SUMMARY:Food & Fitness Week
DESCRIPTION:
URL:https://oystermouthprimaryschool.com/event/food-fitness-week/
LOCATION:Oystermouth Primary School\, Newton Road\, Mumbles\, Swansea\, SA3 4BE\, United Kingdom
CATEGORIES:School
END:VEVENT
END:VCALENDAR