BEGIN:VCALENDAR
VERSION:2.0
PRODID:-//Oystermouth Primary School - ECPv6.15.20//NONSGML v1.0//EN
CALSCALE:GREGORIAN
METHOD:PUBLISH
X-ORIGINAL-URL:https://oystermouthprimaryschool.com
X-WR-CALDESC:Events for Oystermouth Primary School
REFRESH-INTERVAL;VALUE=DURATION:PT1H
X-Robots-Tag:noindex
X-PUBLISHED-TTL:PT1H
BEGIN:VTIMEZONE
TZID:UTC
BEGIN:STANDARD
TZOFFSETFROM:+0000
TZOFFSETTO:+0000
TZNAME:UTC
DTSTART:20240101T000000
END:STANDARD
END:VTIMEZONE
BEGIN:VEVENT
DTSTART;VALUE=DATE:20250324
DTEND;VALUE=DATE:20250405
DTSTAMP:20260419T233627
CREATED:20250114T131237Z
LAST-MODIFIED:20250114T131237Z
UID:3348-1742774400-1743811199@oystermouthprimaryschool.com
SUMMARY:Sustrans Big Walk and Wheel Fortnight
DESCRIPTION:
URL:https://oystermouthprimaryschool.com/event/sustrans-big-walk-and-wheel-fortnight/
LOCATION:Oystermouth Primary School\, Newton Road\, Mumbles\, Swansea\, SA3 4BE\, United Kingdom
CATEGORIES:School
END:VEVENT
BEGIN:VEVENT
DTSTART;VALUE=DATE:20250331
DTEND;VALUE=DATE:20250405
DTSTAMP:20260419T233627
CREATED:20250114T132932Z
LAST-MODIFIED:20250114T132932Z
UID:3360-1743379200-1743811199@oystermouthprimaryschool.com
SUMMARY:Safer Routes to School Week
DESCRIPTION:
URL:https://oystermouthprimaryschool.com/event/safer-routes-to-school-week/
LOCATION:Oystermouth Primary School\, Newton Road\, Mumbles\, Swansea\, SA3 4BE\, United Kingdom
CATEGORIES:School
END:VEVENT
BEGIN:VEVENT
DTSTART;VALUE=DATE:20250331
DTEND;VALUE=DATE:20250412
DTSTAMP:20260419T233627
CREATED:20250114T133115Z
LAST-MODIFIED:20250114T133129Z
UID:3362-1743379200-1744415999@oystermouthprimaryschool.com
SUMMARY:Teacher Parent Consultation Fortnight
DESCRIPTION:
URL:https://oystermouthprimaryschool.com/event/parent-consultation-fortnight-2/
LOCATION:Oystermouth Primary School\, Newton Road\, Mumbles\, Swansea\, SA3 4BE\, United Kingdom
CATEGORIES:School
END:VEVENT
END:VCALENDAR