BEGIN:VCALENDAR
VERSION:2.0
PRODID:-//Oystermouth Primary School - ECPv6.15.20//NONSGML v1.0//EN
CALSCALE:GREGORIAN
METHOD:PUBLISH
X-ORIGINAL-URL:https://oystermouthprimaryschool.com
X-WR-CALDESC:Events for Oystermouth Primary School
REFRESH-INTERVAL;VALUE=DURATION:PT1H
X-Robots-Tag:noindex
X-PUBLISHED-TTL:PT1H
BEGIN:VTIMEZONE
TZID:UTC
BEGIN:STANDARD
TZOFFSETFROM:+0000
TZOFFSETTO:+0000
TZNAME:UTC
DTSTART:20240101T000000
END:STANDARD
END:VTIMEZONE
BEGIN:VEVENT
DTSTART;VALUE=DATE:20250502
DTEND;VALUE=DATE:20250503
DTSTAMP:20260419T214931
CREATED:20250429T111215Z
LAST-MODIFIED:20250429T111215Z
UID:3767-1746144000-1746230399@oystermouthprimaryschool.com
SUMMARY:Visit by Natasha Asghar MS Welsh Conservative Shadow Cabinet Secretary for Education
DESCRIPTION:
URL:https://oystermouthprimaryschool.com/event/visit-by-natasha-asghar-ms-welsh-conservative-shadow-cabinet-secretary-for-education/
LOCATION:Oystermouth Primary School\, Newton Road\, Mumbles\, Swansea\, SA3 4BE\, United Kingdom
CATEGORIES:School
END:VEVENT
BEGIN:VEVENT
DTSTART;VALUE=DATE:20250509
DTEND;VALUE=DATE:20250510
DTSTAMP:20260419T214931
CREATED:20250429T111052Z
LAST-MODIFIED:20250429T111052Z
UID:3765-1746748800-1746835199@oystermouthprimaryschool.com
SUMMARY:Rachael Flanagan Assembly - Sisterhood Rickshaw Rally
DESCRIPTION:
URL:https://oystermouthprimaryschool.com/event/rachael-flanagan-assembly-sisterhood-rickshaw-rally/
LOCATION:Oystermouth Primary School\, Newton Road\, Mumbles\, Swansea\, SA3 4BE\, United Kingdom
CATEGORIES:School
END:VEVENT
BEGIN:VEVENT
DTSTART;TZID=UTC:20250516T085000
DTEND;TZID=UTC:20250516T152000
DTSTAMP:20260419T214931
CREATED:20250410T072015Z
LAST-MODIFIED:20250429T111946Z
UID:3656-1747385400-1747408800@oystermouthprimaryschool.com
SUMMARY:Careers Fair Day
DESCRIPTION:To tie in with this term’s Big Question ‘What will I be?’ we are holding a Careers Fair on Friday 16th May. Careers Fairs are an excellent way for children to talk to people from different professions face-to-face and gain an understanding of what their jobs entail and the skills needed to be successful in today’s world. \nIt would be wonderful if parents can attend for the day or for one or more of the time slots below – \n9:15am – 10:15am \n10:30am – 11:30am \n1pm – 2pm \n2pm – 3pm \nPlease can you complete this form if you are able to attend our Careers Fayre – \nhttps://forms.office.com/e/Bq5ShChnVB \nWe would appreciate your responses by Monday 12th May 2025 so we can plan the day in more detail.
URL:https://oystermouthprimaryschool.com/event/world-of-work-day/
LOCATION:Oystermouth Primary School\, Newton Road\, Mumbles\, Swansea\, SA3 4BE\, United Kingdom
CATEGORIES:School
END:VEVENT
BEGIN:VEVENT
DTSTART;TZID=UTC:20250521T085000
DTEND;TZID=UTC:20250521T152000
DTSTAMP:20260419T214931
CREATED:20250410T072131Z
LAST-MODIFIED:20250410T072131Z
UID:3658-1747817400-1747840800@oystermouthprimaryschool.com
SUMMARY:National Numeracy Day
DESCRIPTION:
URL:https://oystermouthprimaryschool.com/event/national-numeracy-day-2/
LOCATION:Oystermouth Primary School\, Newton Road\, Mumbles\, Swansea\, SA3 4BE\, United Kingdom
CATEGORIES:School
END:VEVENT
END:VCALENDAR