BEGIN:VCALENDAR
VERSION:2.0
PRODID:-//Oystermouth Primary School - ECPv6.15.20//NONSGML v1.0//EN
CALSCALE:GREGORIAN
METHOD:PUBLISH
X-ORIGINAL-URL:https://oystermouthprimaryschool.com
X-WR-CALDESC:Events for Oystermouth Primary School
REFRESH-INTERVAL;VALUE=DURATION:PT1H
X-Robots-Tag:noindex
X-PUBLISHED-TTL:PT1H
BEGIN:VTIMEZONE
TZID:UTC
BEGIN:STANDARD
TZOFFSETFROM:+0000
TZOFFSETTO:+0000
TZNAME:UTC
DTSTART:20240101T000000
END:STANDARD
END:VTIMEZONE
BEGIN:VEVENT
DTSTART;VALUE=DATE:20250630
DTEND;VALUE=DATE:20250705
DTSTAMP:20260419T181259
CREATED:20250410T072353Z
LAST-MODIFIED:20250410T072353Z
UID:3662-1751241600-1751673599@oystermouthprimaryschool.com
SUMMARY:Food & Fitness Week
DESCRIPTION:
URL:https://oystermouthprimaryschool.com/event/food-fitness-week-2/
LOCATION:Oystermouth Primary School\, Newton Road\, Mumbles\, Swansea\, SA3 4BE\, United Kingdom
CATEGORIES:School
END:VEVENT
BEGIN:VEVENT
DTSTART;TZID=UTC:20250708T090000
DTEND;TZID=UTC:20250708T153000
DTSTAMP:20260419T181259
CREATED:20250429T103810Z
LAST-MODIFIED:20250429T103810Z
UID:3746-1751965200-1751988600@oystermouthprimaryschool.com
SUMMARY:Annual Reports sent home
DESCRIPTION:Your child(ren)’s annual report will be emailed to you.
URL:https://oystermouthprimaryschool.com/event/annual-reports-sent-home-2/
LOCATION:Oystermouth Primary School\, Newton Road\, Mumbles\, Swansea\, SA3 4BE\, United Kingdom
CATEGORIES:School
END:VEVENT
BEGIN:VEVENT
DTSTART;TZID=UTC:20250714T090000
DTEND;TZID=UTC:20250714T120000
DTSTAMP:20260419T181259
CREATED:20250429T102552Z
LAST-MODIFIED:20250429T102552Z
UID:3739-1752483600-1752494400@oystermouthprimaryschool.com
SUMMARY:Class Transition Morning
DESCRIPTION:A chance for the children to spend some time in their new September classroom with their new September teacher.
URL:https://oystermouthprimaryschool.com/event/class-transition-morning-2/
LOCATION:Oystermouth Primary School\, Newton Road\, Mumbles\, Swansea\, SA3 4BE\, United Kingdom
CATEGORIES:School
END:VEVENT
BEGIN:VEVENT
DTSTART;TZID=UTC:20250718T085000
DTEND;TZID=UTC:20250718T152000
DTSTAMP:20260419T181259
CREATED:20250429T103056Z
LAST-MODIFIED:20250429T103056Z
UID:3743-1752828600-1752852000@oystermouthprimaryschool.com
SUMMARY:Last Day of Term
DESCRIPTION:
URL:https://oystermouthprimaryschool.com/event/last-day-of-term-3/
LOCATION:Oystermouth Primary School\, Newton Road\, Mumbles\, Swansea\, SA3 4BE\, United Kingdom
CATEGORIES:School
END:VEVENT
END:VCALENDAR