BEGIN:VCALENDAR
VERSION:2.0
PRODID:-//Oystermouth Primary School - ECPv6.15.20//NONSGML v1.0//EN
CALSCALE:GREGORIAN
METHOD:PUBLISH
X-ORIGINAL-URL:https://oystermouthprimaryschool.com
X-WR-CALDESC:Events for Oystermouth Primary School
REFRESH-INTERVAL;VALUE=DURATION:PT1H
X-Robots-Tag:noindex
X-PUBLISHED-TTL:PT1H
BEGIN:VTIMEZONE
TZID:UTC
BEGIN:STANDARD
TZOFFSETFROM:+0000
TZOFFSETTO:+0000
TZNAME:UTC
DTSTART:20230101T000000
END:STANDARD
END:VTIMEZONE
BEGIN:VEVENT
DTSTART;TZID=UTC:20240719T085000
DTEND;TZID=UTC:20240719T152000
DTSTAMP:20260422T011932
CREATED:20240626T101955Z
LAST-MODIFIED:20240702T110700Z
UID:1937-1721379000-1721402400@oystermouthprimaryschool.com
SUMMARY:Last Day of Term
DESCRIPTION:
URL:https://oystermouthprimaryschool.com/event/last-day-of-term/
LOCATION:Oystermouth Primary School\, Newton Road\, Mumbles\, Swansea\, SA3 4BE\, United Kingdom
CATEGORIES:School
END:VEVENT
END:VCALENDAR