BEGIN:VCALENDAR
VERSION:2.0
PRODID:-//Oystermouth Primary School - ECPv6.15.20//NONSGML v1.0//EN
CALSCALE:GREGORIAN
METHOD:PUBLISH
X-ORIGINAL-URL:https://oystermouthprimaryschool.com
X-WR-CALDESC:Events for Oystermouth Primary School
REFRESH-INTERVAL;VALUE=DURATION:PT1H
X-Robots-Tag:noindex
X-PUBLISHED-TTL:PT1H
BEGIN:VTIMEZONE
TZID:UTC
BEGIN:STANDARD
TZOFFSETFROM:+0000
TZOFFSETTO:+0000
TZNAME:UTC
DTSTART:20230101T000000
END:STANDARD
END:VTIMEZONE
BEGIN:VEVENT
DTSTART;TZID=UTC:20241219T083000
DTEND;TZID=UTC:20241219T153000
DTSTAMP:20260421T163611
CREATED:20241127T095311Z
LAST-MODIFIED:20241127T095311Z
UID:3135-1734597000-1734622200@oystermouthprimaryschool.com
SUMMARY:Wear Festive Clothes Day
DESCRIPTION:On Thursday 19th December\, to coincide with Christmas Dinner being served in the Canteen\, children can wear festive clothes to school for the day. \nFestive headwear\, jumpers\, sparkle…all welcome!
URL:https://oystermouthprimaryschool.com/event/wear-festive-clothes-day/
LOCATION:Oystermouth Primary School\, Newton Road\, Mumbles\, Swansea\, SA3 4BE\, United Kingdom
CATEGORIES:School
END:VEVENT
BEGIN:VEVENT
DTSTART;TZID=UTC:20241219T120000
DTEND;TZID=UTC:20241219T130000
DTSTAMP:20260421T163611
CREATED:20241127T094451Z
LAST-MODIFIED:20241127T094451Z
UID:3133-1734609600-1734613200@oystermouthprimaryschool.com
SUMMARY:Christmas Dinner Day
DESCRIPTION:On Thursday 19th December\, the canteen will be spreading festive cheer with a delicious Christmas Dinner for all children who fancy a taste of the season. \nThis special meal will replace the usual menu for the day. If your child(ren) would like to join in the festivities\, they can simply request a Christmas Dinner as they normally would for a hot meal on the morning of the 19th. \nAnd here’s the cherry on top of the Christmas pudding – thanks to Universal Free School Meals in Wales\, this festive feast is completely free for all primary school-aged pupils. \nChildren can also come to school wearing festive clothes. We can’t wait to make it a merry and memorable day for everyone!
URL:https://oystermouthprimaryschool.com/event/christmas-dinner-day/
LOCATION:Oystermouth Primary School\, Newton Road\, Mumbles\, Swansea\, SA3 4BE\, United Kingdom
CATEGORIES:School
END:VEVENT
END:VCALENDAR