BEGIN:VCALENDAR
VERSION:2.0
PRODID:-//Oystermouth Primary School - ECPv6.15.20//NONSGML v1.0//EN
CALSCALE:GREGORIAN
METHOD:PUBLISH
X-WR-CALNAME:Oystermouth Primary School
X-ORIGINAL-URL:https://oystermouthprimaryschool.com
X-WR-CALDESC:Events for Oystermouth Primary School
REFRESH-INTERVAL;VALUE=DURATION:PT1H
X-Robots-Tag:noindex
X-PUBLISHED-TTL:PT1H
BEGIN:VTIMEZONE
TZID:UTC
BEGIN:STANDARD
TZOFFSETFROM:+0000
TZOFFSETTO:+0000
TZNAME:UTC
DTSTART:20230101T000000
END:STANDARD
END:VTIMEZONE
BEGIN:VEVENT
DTSTART;TZID=UTC:20241220T083000
DTEND;TZID=UTC:20241220T153000
DTSTAMP:20260421T163057
CREATED:20241212T144414Z
LAST-MODIFIED:20241212T144414Z
UID:3192-1734683400-1734708600@oystermouthprimaryschool.com
SUMMARY:Wear Festive Clothes Day
DESCRIPTION:On Friday 20th December children can wear festive clothes to school for the day. \nFestive headwear\, jumpers\, sparkle…all welcome!
URL:https://oystermouthprimaryschool.com/event/wear-festive-clothes-day-2/
LOCATION:Oystermouth Primary School\, Newton Road\, Mumbles\, Swansea\, SA3 4BE\, United Kingdom
CATEGORIES:School
END:VEVENT
BEGIN:VEVENT
DTSTART;TZID=UTC:20241220T085000
DTEND;TZID=UTC:20241220T152000
DTSTAMP:20260421T163057
CREATED:20241009T114932Z
LAST-MODIFIED:20241009T114932Z
UID:2994-1734684600-1734708000@oystermouthprimaryschool.com
SUMMARY:Last Day of Term
DESCRIPTION:
URL:https://oystermouthprimaryschool.com/event/last-day-of-term-2/
LOCATION:Oystermouth Primary School\, Newton Road\, Mumbles\, Swansea\, SA3 4BE\, United Kingdom
CATEGORIES:School
END:VEVENT
END:VCALENDAR