BEGIN:VCALENDAR
VERSION:2.0
PRODID:-//Oystermouth Primary School - ECPv6.15.20//NONSGML v1.0//EN
CALSCALE:GREGORIAN
METHOD:PUBLISH
X-WR-CALNAME:Oystermouth Primary School
X-ORIGINAL-URL:https://oystermouthprimaryschool.com
X-WR-CALDESC:Events for Oystermouth Primary School
REFRESH-INTERVAL;VALUE=DURATION:PT1H
X-Robots-Tag:noindex
X-PUBLISHED-TTL:PT1H
BEGIN:VTIMEZONE
TZID:UTC
BEGIN:STANDARD
TZOFFSETFROM:+0000
TZOFFSETTO:+0000
TZNAME:UTC
DTSTART:20240101T000000
END:STANDARD
END:VTIMEZONE
BEGIN:VEVENT
DTSTART;TZID=UTC:20250521T085000
DTEND;TZID=UTC:20250521T152000
DTSTAMP:20260419T233645
CREATED:20250410T072131Z
LAST-MODIFIED:20250410T072131Z
UID:3658-1747817400-1747840800@oystermouthprimaryschool.com
SUMMARY:National Numeracy Day
DESCRIPTION:
URL:https://oystermouthprimaryschool.com/event/national-numeracy-day-2/
LOCATION:Oystermouth Primary School\, Newton Road\, Mumbles\, Swansea\, SA3 4BE\, United Kingdom
CATEGORIES:School
END:VEVENT
END:VCALENDAR