BEGIN:VCALENDAR
VERSION:2.0
PRODID:-//Oystermouth Primary School - ECPv6.15.20//NONSGML v1.0//EN
CALSCALE:GREGORIAN
METHOD:PUBLISH
X-WR-CALNAME:Oystermouth Primary School
X-ORIGINAL-URL:https://oystermouthprimaryschool.com
X-WR-CALDESC:Events for Oystermouth Primary School
REFRESH-INTERVAL;VALUE=DURATION:PT1H
X-Robots-Tag:noindex
X-PUBLISHED-TTL:PT1H
BEGIN:VTIMEZONE
TZID:UTC
BEGIN:STANDARD
TZOFFSETFROM:+0000
TZOFFSETTO:+0000
TZNAME:UTC
DTSTART:20240101T000000
END:STANDARD
END:VTIMEZONE
BEGIN:VEVENT
DTSTART;TZID=UTC:20251015T085000
DTEND;TZID=UTC:20251015T152000
DTSTAMP:20260419T145919
CREATED:20250905T121700Z
LAST-MODIFIED:20250905T121700Z
UID:4091-1760518200-1760541600@oystermouthprimaryschool.com
SUMMARY:Shwmae Day
DESCRIPTION:Help us celebrate Shwmae Day! Shwmae Day is a day marked each year in Wales to celebrate and promote the Welsh language. More details on how we will celebrate in school to follow.
URL:https://oystermouthprimaryschool.com/event/shwmae-day-2/
LOCATION:Oystermouth Primary School\, Newton Road\, Mumbles\, Swansea\, SA3 4BE\, United Kingdom
CATEGORIES:School
END:VEVENT
END:VCALENDAR