BEGIN:VCALENDAR
VERSION:2.0
PRODID:-//Oystermouth Primary School - ECPv6.15.20//NONSGML v1.0//EN
CALSCALE:GREGORIAN
METHOD:PUBLISH
X-WR-CALNAME:Oystermouth Primary School
X-ORIGINAL-URL:https://oystermouthprimaryschool.com
X-WR-CALDESC:Events for Oystermouth Primary School
REFRESH-INTERVAL;VALUE=DURATION:PT1H
X-Robots-Tag:noindex
X-PUBLISHED-TTL:PT1H
BEGIN:VTIMEZONE
TZID:UTC
BEGIN:STANDARD
TZOFFSETFROM:+0000
TZOFFSETTO:+0000
TZNAME:UTC
DTSTART:20240101T000000
END:STANDARD
END:VTIMEZONE
BEGIN:VEVENT
DTSTART;TZID=UTC:20251219T083000
DTEND;TZID=UTC:20251219T153000
DTSTAMP:20260419T151036
CREATED:20251210T121154Z
LAST-MODIFIED:20251210T121154Z
UID:4480-1766133000-1766158200@oystermouthprimaryschool.com
SUMMARY:Wear Festive Clothes Day
DESCRIPTION:On Friday 19th December children can wear festive clothes to school for the day. \nFestive headwear\, jumpers\, sparkle…all welcome!
URL:https://oystermouthprimaryschool.com/event/wear-festive-clothes-day-3/
LOCATION:Oystermouth Primary School\, Newton Road\, Mumbles\, Swansea\, SA3 4BE\, United Kingdom
CATEGORIES:School
END:VEVENT
BEGIN:VEVENT
DTSTART;TZID=UTC:20251219T085000
DTEND;TZID=UTC:20251219T152000
DTSTAMP:20260419T151036
CREATED:20250905T134537Z
LAST-MODIFIED:20250905T134537Z
UID:4138-1766134200-1766157600@oystermouthprimaryschool.com
SUMMARY:Last Day of Term
DESCRIPTION:
URL:https://oystermouthprimaryschool.com/event/last-day-of-term-4/
LOCATION:Oystermouth Primary School\, Newton Road\, Mumbles\, Swansea\, SA3 4BE\, United Kingdom
CATEGORIES:School
END:VEVENT
BEGIN:VEVENT
DTSTART;TZID=UTC:20251219T120000
DTEND;TZID=UTC:20251219T130000
DTSTAMP:20260419T151036
CREATED:20251126T153725Z
LAST-MODIFIED:20251210T114527Z
UID:4439-1766145600-1766149200@oystermouthprimaryschool.com
SUMMARY:Christmas Dinner Day
DESCRIPTION:On Friday 19th December\, the canteen will be spreading festive cheer with a delicious Christmas Dinner for all children who fancy a taste of the season. (For pupils in Reception to Year 6 only) \nThis special meal will replace the usual menu for the day. If your child(ren) would like to join in the festivities\, they can simply request a Christmas Dinner as they normally would for a hot meal on the morning of the 19th. \nAnd here’s the cherry on top of the Christmas pudding – thanks to Universal Free School Meals in Wales\, this festive feast is completely free for all primary school-aged pupils. \nChildren can also come to school wearing festive clothes. We can’t wait to make it a merry and memorable day for everyone!
URL:https://oystermouthprimaryschool.com/event/christmas-dinner-day-2/
LOCATION:Oystermouth Primary School\, Newton Road\, Mumbles\, Swansea\, SA3 4BE\, United Kingdom
CATEGORIES:School
END:VEVENT
END:VCALENDAR